BEGIN:VCALENDAR
VERSION:2.0
PRODID:icalendar-ruby
CALSCALE:GREGORIAN
METHOD:PUBLISH
BEGIN:VEVENT
DTSTAMP:20260423T221357Z
UID:174-217707@hope-central.church
DTSTART:20261020T230000Z
DTEND:20261021T000000Z
CLASS:PUBLIC
CREATED:20260318T122054
DESCRIPTION:
LAST-MODIFIED:20260318T122054
LOCATION:Kimball Campus Room 130 
SUMMARY:Prayer Council
URL;VALUE=URI:https://kimballchristian.com/events/prayer-council/2026-10-20
END:VEVENT
END:VCALENDAR
